BEGIN:VCALENDAR
PRODID:-//eluceo/ical//2.0/EN
VERSION:2.0
CALSCALE:GREGORIAN
BEGIN:VEVENT
UID:18eb536663d68686c4de682e4c9ee388
DTSTAMP:20260420T132820Z
SUMMARY:Summer Break
DESCRIPTION:
URL:https://luxembourg-hearts.rotary2160.org/en/agenda/show/86944
DTSTART;TZID=Europe/Zurich:20250724T000000
DTEND;TZID=Europe/Zurich:20250909T000000
LOCATION:TBC
CATEGORIES:Rotary
END:VEVENT
BEGIN:VTIMEZONE
TZID:Europe/Zurich
BEGIN:DAYLIGHT
DTSTART:20250724T000000
TZNAME:CEST
TZOFFSETTO:+0200
TZOFFSETFROM:+0200
END:DAYLIGHT
END:VTIMEZONE
END:VCALENDAR
