BEGIN:VCALENDAR
PRODID:-//eluceo/ical//2.0/EN
VERSION:2.0
CALSCALE:GREGORIAN
BEGIN:VEVENT
UID:3b53962a972f29cf919a625a46b4e129
DTSTAMP:20260420T185448Z
SUMMARY:Guest Speaker: Felix Pflücke
DESCRIPTION:Site internet: https://www.hotel-leplacedarmes.com/\nConférenc
 ier(s): Felix PflückeExclusive presentation on Financial Influencers fea
 turing insights from Felix's recent New York Times interview and research.
   
URL:https://luxembourg-hearts.rotary2160.org/fr/agenda/show/79772
DTSTART;TZID=Europe/Zurich:20250423T190000
DTEND;TZID=Europe/Zurich:20250423T210000
LOCATION:Hotel Le Place d'Armes\, 18 Pl. d'Armes\, 1136 Ville-Haute Luxembo
 urg\, Luxembourg
CATEGORIES:Rotary
END:VEVENT
BEGIN:VTIMEZONE
TZID:Europe/Zurich
BEGIN:DAYLIGHT
DTSTART:20250423T190000
TZNAME:CEST
TZOFFSETTO:+0200
TZOFFSETFROM:+0200
END:DAYLIGHT
END:VTIMEZONE
END:VCALENDAR
